BEGIN:VCALENDAR
VERSION:2.0
PRODID:-//ChamberMaster//Event Calendar 2.0//EN
METHOD:PUBLISH
X-PUBLISHED-TTL:P3D
REFRESH-INTERVAL:P3D
CALSCALE:GREGORIAN
BEGIN:VEVENT
DTSTART:20150611T120000Z
DTEND:20150611T200000Z
X-MICROSOFT-CDO-ALLDAYEVENT:FALSE
SUMMARY:Leadership Ashland Class 6-11-15
DESCRIPTION:TOPIC/DISCUSSION:\n\n\n	Kouzes & Posner - Wrap up\n	Class review\, etc.
X-ALT-DESC;FMTTYPE=text/html:<strong>TOPIC/DISCUSSION:</strong>\n\n<ul>\n	<li>Kouzes &amp\; Posner - Wrap up</li>\n	<li>Class review\, etc.</li>\n</ul>\n
LOCATION:MORNING SESSION: Ashland County Community Foundation 300 College Ave.\, Ashland OH 44805 AFTERNOON SESSION: Pump House Ministries 400 Orange St.\, Ashland\, OH 44805
UID:e.1651.1533
SEQUENCE:3
DTSTAMP:20260421T163233Z
URL:https://members.ashlandoh.com/events/details/leadership-ashland-class-6-11-15-06-11-2015-1533
END:VEVENT

END:VCALENDAR
