BEGIN:VCALENDAR
VERSION:2.0
PRODID:-//ChamberMaster//Event Calendar 2.0//EN
METHOD:PUBLISH
X-PUBLISHED-TTL:P3D
REFRESH-INTERVAL:P3D
CALSCALE:GREGORIAN
BEGIN:VEVENT
DTSTART:20160420T120000Z
DTEND:20160420T203000Z
X-MICROSOFT-CDO-ALLDAYEVENT:FALSE
SUMMARY:Leadership Ashland Class April 20\, 2016
DESCRIPTION:Leadership Ashland Class Day\n\nFOCUS DAY
X-ALT-DESC;FMTTYPE=text/html:<strong>Leadership Ashland Class Day<br />\n<span style="color:#0000CD\;">FOCUS DAY</span></strong>
LOCATION:Watch for schedule!
UID:e.1651.2413
SEQUENCE:3
DTSTAMP:20260421T002301Z
URL:https://members.ashlandoh.com/events/details/leadership-ashland-class-april-20-2016-04-20-2016-2413
END:VEVENT

END:VCALENDAR
