BEGIN:VCALENDAR
VERSION:2.0
PRODID:-//ChamberMaster//Event Calendar 2.0//EN
METHOD:PUBLISH
X-PUBLISHED-TTL:P3D
REFRESH-INTERVAL:P3D
CALSCALE:GREGORIAN
BEGIN:VEVENT
DTSTART:20141008T114500Z
DTEND:20141008T210000Z
X-MICROSOFT-CDO-ALLDAYEVENT:FALSE
SUMMARY:Leadership Ashland Class - Bus Tour 10-8-14
DESCRIPTION:Leadership Ashland Class 2014-15\n\nCounty Bus Tour
X-ALT-DESC;FMTTYPE=text/html:Leadership Ashland Class 2014-15<br />\nCounty Bus Tour
LOCATION:Meet and leave from the Ashland County Historical Society Manor House 420 Center St.\, Ashland OH 44805
UID:e.1651.1524
SEQUENCE:3
DTSTAMP:20260422T060531Z
URL:https://members.ashlandoh.com/events/details/leadership-ashland-class-bus-tour-10-8-14-10-08-2014-1524
END:VEVENT

END:VCALENDAR
