BEGIN:VCALENDAR
VERSION:2.0
PRODID:-//ChamberMaster//Event Calendar 2.0//EN
METHOD:PUBLISH
X-PUBLISHED-TTL:P3D
REFRESH-INTERVAL:P3D
CALSCALE:GREGORIAN
BEGIN:VEVENT
DTSTART:20151216T130000Z
DTEND:20151216T213000Z
X-MICROSOFT-CDO-ALLDAYEVENT:FALSE
SUMMARY:Leadership Ashland Class December 16\, 2015
DESCRIPTION:Leadership Ashland Class Day\n\nFOCUS DAY
X-ALT-DESC;FMTTYPE=text/html:<strong>Leadership Ashland Class Day<br />\n<span style="color:#0000CD\;">FOCUS DAY</span></strong>
LOCATION:Watch for schedule!
UID:e.1651.2409
SEQUENCE:3
DTSTAMP:20260421T055449Z
URL:https://members.ashlandoh.com/events/details/leadership-ashland-class-december-16-2015-12-16-2015-2409
END:VEVENT

END:VCALENDAR
