BEGIN:VCALENDAR
VERSION:2.0
PRODID:-//ChamberMaster//Event Calendar 2.0//EN
METHOD:PUBLISH
X-PUBLISHED-TTL:P3D
REFRESH-INTERVAL:P3D
CALSCALE:GREGORIAN
BEGIN:VEVENT
DTSTART:20151118T130000Z
DTEND:20151118T213000Z
X-MICROSOFT-CDO-ALLDAYEVENT:FALSE
SUMMARY:Leadership Ashland Class November 18\, 2015
DESCRIPTION:Leadership Ashland Class Day\n\nBoardmanship Class\n\n\n\nTo View the Class Day Agenda\, CLICK HERE
X-ALT-DESC;FMTTYPE=text/html:<strong>Leadership Ashland Class Day<br>\n<span style="color:#0000CD\;">Boardmanship Class</span></strong><br>\n<br>\nTo View the Class Day Agenda\, <strong><a href="http://cloud.chambermaster.com/userfiles/UserFiles/chambers/1651/File/Leadership_Ashland/LAClassAgendaNov182015.docx">CLICK HERE</a></strong>
LOCATION:AU - Hawkins - Conard Student Center (2nd Floor Conference Room)
UID:e.1651.2408
SEQUENCE:3
DTSTAMP:20260421T072726Z
URL:https://members.ashlandoh.com/events/details/leadership-ashland-class-november-18-2015-11-18-2015-2408
END:VEVENT

END:VCALENDAR
