BEGIN:VCALENDAR
VERSION:2.0
PRODID:-//ChamberMaster//Event Calendar 2.0//EN
METHOD:PUBLISH
X-PUBLISHED-TTL:P3D
REFRESH-INTERVAL:P3D
CALSCALE:GREGORIAN
BEGIN:VEVENT
DTSTART:20160615T163000Z
DTEND:20160615T190000Z
X-MICROSOFT-CDO-ALLDAYEVENT:FALSE
SUMMARY:Leadership Ashland Graduation June 15\, 2016
DESCRIPTION:Leadership Ashland Class of 2015-16\n\nGraduation Luncheon
X-ALT-DESC;FMTTYPE=text/html:<strong>Leadership Ashland Class of 2015-16<br />\n<span style="color:#0000CD\;">Graduation Luncheon</span></strong>
LOCATION:Ridenour Room Dauch College of Business Ashland University 401 College Ave.\, Ashland OH
UID:e.1651.2415
SEQUENCE:3
DTSTAMP:20260420T204202Z
URL:https://members.ashlandoh.com/events/details/leadership-ashland-graduation-june-15-2016-06-15-2016-2415
END:VEVENT

END:VCALENDAR
