BEGIN:VCALENDAR
VERSION:2.0
PRODID:-//ChamberMaster//Event Calendar 2.0//EN
METHOD:PUBLISH
X-PUBLISHED-TTL:P3D
REFRESH-INTERVAL:P3D
CALSCALE:GREGORIAN
BEGIN:VEVENT
DTSTART:20161025T153000Z
DTEND:20161025T170000Z
X-MICROSOFT-CDO-ALLDAYEVENT:FALSE
SUMMARY:Leadership Ashland Lunch & Learn 10-25-16
DESCRIPTION:Join us for a special Leadership Ashland Lunch & Learn Event\n\nSpeaker: Steve Stone - Mental Health & Recovery Board\n\nDate: Tuesday\, October 25\, 2016\n\nTime: 11:30 am - 1:00 pm\n\nLocation: Kroc Center\n\n\n\nAbsenteeism. Lack of focus. Depression. High cost of health care.\n\nIn 1998\, Kaiser Permanente and the CDC collaborated on a groundbreaking research study with implications for every sector of society\, including the workplace. The Adverse Childhood Experiences (ACEs) Study linked childhood trauma to a higher risk of chronic disease\, addiction\, social and emotional problems\, depression\, suicidality\, and violence (both as a perpetrator and a victim)   all of which have an impact on businesses of all sizes in many different areas of operations.\n\nAs organizations\, agencies and employers across the country are becoming more aware of the impact of ACEs\, they are integrating trauma-informed and resilience-based practices into their culture to combat the business impact of these experiences on the workforce.\n\nAccording to a research study published in The Permanente Journal\, "The long-term effects of adverse childhood experiences on the workforce impose major human and economic costs that are preventable. These costs merit attention from the business community in conjunction with specialists in occupational medicine and public health."\n\nAt this seminar\, Steve Stone will share how understanding the ACE study can help your organization's bottom line.\n\nJoin us to learn about the economic impact of Adverse Childhood Experiences in the workforce.
X-ALT-DESC;FMTTYPE=text/html:<span style="font-size:16px\;"><strong><span style="color: rgb(0\, 0\, 205)\;">Join us for a special Leadership Ashland Lunch &amp\; Learn Event</span></strong></span><br />\nSpeaker: Steve Stone - Mental Health &amp\; Recovery Board<br />\nDate: Tuesday\, October 25\, 2016<br />\nTime: 11:30 am - 1:00 pm<br />\nLocation: Kroc Center<br />\n<br />\n<span style="font-size:12px\;"><span style="font-family:arial\;"><span style="font-size:16px\;"><strong>Absenteeism. Lack of focus. Depression. High cost of health care.</strong></span><br />\nI<span style="font-size:14px\;">n 1998\, Kaiser Permanente and the CDC collaborated on a groundbreaking research study with implications for every sector of society\, including the workplace. The Adverse Childhood Experiences (ACEs) Study linked childhood trauma to a higher risk of chronic disease\, addiction\, social and emotional problems\, depression\, suicidality\, and violence (both as a perpetrator and a victim) &ndash\; all of which have an impact on businesses of all sizes in many different areas of operations.<br />\nAs organizations\, agencies and employers across the country are becoming more aware of the impact of ACEs\, they are integrating trauma-informed and resilience-based practices into their culture to combat the business impact of these experiences on the workforce.<br />\n<span style="color: rgb(0\, 0\, 0)\;">According to a research study published in <em>The Permanente Journal\,</em> &quot\;The long-term effects of adverse childhood experiences on the workforce impose major human and economic costs that are preventable. These costs merit attention from the business community in conjunction with specialists in occupational medicine and public health.&quot\;</span><br />\nAt this seminar\, Steve Stone will share how understanding the ACE study can help your organization&rsquo\;s bottom line.<br />\nJoin us to learn about the economic impact of Adverse Childhood Experiences in the workforce.</span></span></span><br />\n<br />\n&nbsp\;
LOCATION:
UID:e.1651.4150
SEQUENCE:3
DTSTAMP:20260420T121449Z
URL:https://members.ashlandoh.com/events/details/leadership-ashland-lunch-learn-10-25-16-10-25-2016-4150
END:VEVENT

END:VCALENDAR
