BEGIN:VCALENDAR
VERSION:2.0
PRODID:-//ChamberMaster//Event Calendar 2.0//EN
METHOD:PUBLISH
X-PUBLISHED-TTL:P3D
REFRESH-INTERVAL:P3D
CALSCALE:GREGORIAN
BEGIN:VEVENT
DTSTART:20160818T153000Z
DTEND:20160818T170000Z
X-MICROSOFT-CDO-ALLDAYEVENT:FALSE
SUMMARY:Leadership Ashland Lunch & Learn 8-18-16
DESCRIPTION:5 Generations in the Workplace\n\nImproving communications across 5 Generations\n\n\n	Understanding the value of 5 Generations\n	Creative ways to get the generations "talking"\n	Communication tools and training tips\n\n\nDate: Thursday\, August 18\, 2016\n\nTime: 11:30 am - 1:00 pm\n\nSpeaker: Sonya Weiland\, Your Partner in HR\n\nLocation: Heritage Room - AU Convocation Center\, 638 Jefferson St.\, Ashland OH 44805\n\n\n\nClick here for an event flyer
X-ALT-DESC;FMTTYPE=text/html:<p><span style="color:#0000CD\;"><span style="font-size: 16px\;"><strong>5 Generations in the Workplace</strong></span></span><br />\n<span style="font-size: 16px\;"><span style="font-size:14px\;"><em>Improving communications across 5 Generations</em></span></span></p>\n\n<ul>\n	<li>Understanding the value of 5 Generations</li>\n	<li>Creative ways to get the generations &quot\;talking&quot\;</li>\n	<li>Communication tools and training tips</li>\n</ul>\n\n<p><strong>Date: </strong>Thursday\, August 18\, 2016<br />\n<strong>Time: </strong>11:30 am - 1:00 pm<br />\n<span style="color:#A52A2A\;"><em><strong>Speaker:</strong> Sonya Weiland\, Your Partner in HR</em></span><br />\n<strong>Location:</strong> Heritage Room - AU Convocation Center\, 638 Jefferson St.\, Ashland OH 44805<br />\n<br />\n<strong><a href="https://chambermaster.blob.core.windows.net/userfiles/UserFiles/chambers/1651/File/Leadership_Ashland/5GenerationsLunchandLearnFlyer.pdf"><span style="color:#0000CD\;">Click here for an event flyer</span></a><span style="color:#0000CD\;"> </span></strong><span style="color:#0000CD\;"><strong> </strong></span></p>\n
LOCATION:HERITAGE ROOM AU Convocation Ctr. 638 Jefferson St. Ashland OH 44805
UID:e.1651.4151
SEQUENCE:3
DTSTAMP:20260420T153157Z
URL:https://members.ashlandoh.com/events/details/leadership-ashland-lunch-learn-8-18-16-08-18-2016-4151
END:VEVENT

END:VCALENDAR
