BEGIN:VCALENDAR
VERSION:2.0
PRODID:-//ChamberMaster//Event Calendar 2.0//EN
METHOD:PUBLISH
X-PUBLISHED-TTL:P3D
REFRESH-INTERVAL:P3D
CALSCALE:GREGORIAN
BEGIN:VEVENT
DTSTART:20170404T153000Z
DTEND:20170404T170000Z
X-MICROSOFT-CDO-ALLDAYEVENT:FALSE
SUMMARY:Leadership Ashland Lunch & Learn Seminar #5-Methods for Ensuring Quality Communication
DESCRIPTION:The Lunch & Learn Series of programs are made possible by a generous grant  from the Ashland County Community Foundation's "Innovation Fund."\n\n\n\nMethods for Ensuring Quality Communication\n\nOne of the top 3 issues that employees cite in their organizations is that there is not enough communication among various levels of organizational management.  By implementing some simple strategies\, managers can help to offset the negative consequences of not having effective communication systems in place.  Join us for this Leadership Ashland Continuing Education Seminar to gain insight into how your organization can reap the benefits of improved communication both internally and externally.\n\n \n\nLearning Objectives:\n\n	Learn how to perform a simple communications audit in your organization\n	What to do with the results of a communications audit\n	Understand why employees want and need better communication to do their jobs\n	Be aware of what employees are communicating both inside and outside the organization\n	The role of social media in organizational communication\n	Learn steps to take in managing communication in a crisis\n\nPresenter:  Carole Trimble\n\nMs. Trimble founded Communications Management Strategies\, a consulting firm dedicated to assisting businesses\, associations and other organizations in maximizing the effectiveness of their public relations and public affairs techniques and programs in 1999.  The firm specializes in analyzing the effectiveness of existing programs\, creating strategic plans to meet long-term organizational objectives\, designing strategic solutions to immediate challenges and managing crisis situations. \n\n\n\nDuring her career\, she has worked in senior level communications positions\, advising organizations in communications strategies and facilitating communications training sessions to aid in workplace interaction\, relationship-building and external spokesperson responsibilities.  \n\n\n\nIn addition to her success as a communications and management consultant she also has authored three travel/history books focused on the existing sites from the Middle and Tudor ages in Great Britain.
X-ALT-DESC;FMTTYPE=text/html:<span style="color: rgb(51\, 51\, 51)\; font-family: sans-serif\, Arial\, Verdana\, &quot\;Trebuchet MS&quot\;\; font-size: 12px\;"><em><strong><span style="color: rgb(31\, 73\, 125)\;">The Lunch &amp\; Learn Series of programs are made possible by a generous grant &nbsp\;from the Ashland County Community Foundation&rsquo\;s &ldquo\;Innovation Fund.&quot\;</span></strong></em></span><br />\n<br />\n<span style="font-size:20px\;"><span style="font-family:arial\;"><strong><span style="color:#002060\;">Methods for Ensuring Quality Communication</span></strong></span></span><br />\nOne of the top 3 issues that employees cite in their organizations is that there is not enough communication among various levels of organizational management.&nbsp\; By implementing some simple strategies\, managers can help to offset the negative consequences of not having effective communication systems in place.&nbsp\; Join us for this Leadership Ashland Continuing Education Seminar to gain insight into how your organization can reap the benefits of improved communication both internally and externally.<br />\n&nbsp\;<br />\n<strong><u>Learning Objectives:</u></strong>\n<ul>\n	<li>Learn how to perform a simple communications audit in your organization</li>\n	<li>What to do with the results of a communications audit</li>\n	<li>Understand why employees want and need better communication to do their jobs</li>\n	<li>Be aware of what employees are communicating both inside and outside the organization</li>\n	<li>The role of social media in organizational communication</li>\n	<li>Learn steps to take in managing communication in a crisis</li>\n</ul>\n<strong><span style="font-size:14.0pt\;">Presenter:&nbsp\; Carole Trimble</span></strong><br />\nMs. Trimble founded Communications Management Strategies\, a consulting firm dedicated to assisting businesses\, associations and other organizations in maximizing the effectiveness of their public relations and public affairs techniques and programs in 1999.&nbsp\; The firm specializes in analyzing the effectiveness of existing programs\, creating strategic plans to meet long-term organizational objectives\, designing strategic solutions to immediate challenges and managing crisis situations.&nbsp\;<br />\n<br />\nDuring her career\, she has worked in senior level communications positions\, advising organizations in communications strategies and facilitating communications training sessions to aid in workplace interaction\, relationship-building and external spokesperson responsibilities. &nbsp\;<br />\n<br />\nIn addition to her success as a communications and management consultant she also has authored three travel/history books focused on the existing sites from the Middle and Tudor ages in Great Britain.<br />\n<br />\n&nbsp\;
LOCATION:Hampton Inn Ashland OH
UID:e.1651.4209
SEQUENCE:3
DTSTAMP:20260420T014350Z
URL:https://members.ashlandoh.com/events/details/leadership-ashland-lunch-learn-seminar-5-methods-for-ensuring-quality-communication-4209
END:VEVENT

END:VCALENDAR
