BEGIN:VCALENDAR
VERSION:2.0
PRODID:-//ChamberMaster//Event Calendar 2.0//EN
METHOD:PUBLISH
X-PUBLISHED-TTL:P3D
REFRESH-INTERVAL:P3D
CALSCALE:GREGORIAN
BEGIN:VEVENT
DTSTART:20160830T160000Z
DTEND:20160830T170000Z
X-MICROSOFT-CDO-ALLDAYEVENT:FALSE
SUMMARY:Leadership Ashland Orientation 8-30-16
DESCRIPTION:Leadership Ashland Class of 2016-17\n\nOrientation - come and learn about how the class works\, the schedule and other important details.
X-ALT-DESC;FMTTYPE=text/html:<strong>Leadership Ashland Class of 2016-17</strong><br />\nOrientation - come and learn about how the class works\, the schedule and other important details.
LOCATION:Chamber Office 211 Claremont Ave. Ashland OH 44805
UID:e.1651.4176
SEQUENCE:3
DTSTAMP:20260420T153016Z
URL:https://members.ashlandoh.com/events/details/leadership-ashland-orientation-8-30-16-4176
END:VEVENT

END:VCALENDAR
