BEGIN:VCALENDAR
VERSION:2.0
PRODID:-//ChamberMaster//Event Calendar 2.0//EN
METHOD:PUBLISH
X-PUBLISHED-TTL:P3D
REFRESH-INTERVAL:P3D
CALSCALE:GREGORIAN
BEGIN:VEVENT
DTSTART:20140927T130000Z
DTEND:20140927T153000Z
X-MICROSOFT-CDO-ALLDAYEVENT:FALSE
SUMMARY:LifeWalk 2014
DESCRIPTION:Annual fundraising event to benefit Ashland Care Center - Your Pregnancy Resource Center for the Ashland Area. Online Registration opens August 10\, 2014 Pledge forms available online August 10\, 2014
X-ALT-DESC;FMTTYPE=text/html:Annual fundraising event to benefit Ashland Care Center - Your Pregnancy Resource Center for the Ashland Area. Online Registration opens August 10\, 2014 Pledge forms available online August 10\, 2014
LOCATION:Corner Park\, Ashland\, OH at the corner of Claremont Ave. and W. Main St.
UID:e.1651.1522
SEQUENCE:3
DTSTAMP:20260422T073609Z
URL:https://members.ashlandoh.com/events/details/lifewalk-2014-09-27-2014-1522
END:VEVENT

END:VCALENDAR
