BEGIN:VCALENDAR
VERSION:2.0
PRODID:-//ChamberMaster//Event Calendar 2.0//EN
METHOD:PUBLISH
X-PUBLISHED-TTL:P3D
REFRESH-INTERVAL:P3D
CALSCALE:GREGORIAN
BEGIN:VEVENT
DTSTART:20130808T140000Z
DTEND:20130810T200000Z
X-MICROSOFT-CDO-ALLDAYEVENT:FALSE
SUMMARY:Lincoln Highway Buy-Way Downtown Ashland Community Garage Sale & Main Street Sidewalk Sales!
DESCRIPTION:Our Community Garage Sale has everything you're looking for and more: books! toys! clothes for kids and adults! furniture! and more!  Ashland Main Street will be there with drinks for sale and a super groovy raffle prize!  Our merchants on Main Street will have sidewalk sales during the entire Buy-Way as well!  Don't forget to stop in to our great downtown restaurants for a meal!
X-ALT-DESC;FMTTYPE=text/html:<br />\n<div style="font-family: arial\, sans-serif\; font-size: 13.33px\;">\n	<span style="font-size: 13.33px\;">Our Community Garage Sale has everything you&#39\;re looking for and more: books! toys! clothes for kids and adults! furniture! and more! &nbsp\;Ashland Main Street will be there with drinks for sale and a super groovy raffle prize! &nbsp\;Our merchants on Main Street will have sidewalk sales during the entire Buy-Way as well! &nbsp\;Don&#39\;t forget to stop in to our great downtown restaurants for a meal!</span><br />\n	&nbsp\;</div>\n<div style="font-family: arial\, sans-serif\; font-size: 13.33px\;">\n	&nbsp\;</div>\n<div>\n	&nbsp\;</div>\n
LOCATION:Community garage sale is in Municipal Parking Lot B\, off of Claremont Avenue. Sidewalk sales are all along Main Street downtown.
UID:e.1651.882
SEQUENCE:3
DTSTAMP:20260423T053127Z
URL:https://members.ashlandoh.com/events/details/lincoln-highway-buy-way-downtown-ashland-community-garage-sale-main-street-sidewalk-sales-08-08-2013-882
END:VEVENT

END:VCALENDAR
