BEGIN:VCALENDAR
VERSION:2.0
PRODID:-//ChamberMaster//Event Calendar 2.0//EN
METHOD:PUBLISH
X-PUBLISHED-TTL:P3D
REFRESH-INTERVAL:P3D
CALSCALE:GREGORIAN
BEGIN:VEVENT
DTSTART:20160727T120000Z
DTEND:20160727T133000Z
X-MICROSOFT-CDO-ALLDAYEVENT:FALSE
SUMMARY:Local Lynx Informational Meeting
DESCRIPTION:Announcing Your NEW Ashland Chamber Benefit!\n\n\n\nWe are excited to announce our new partnership with Local Lynx to bring our members access totheir own customizable micro mobile app. The Local Lynx mission is to increase traffic to local Ashland Area businesses. They accomplish this by offering consumers a free tool on their smartphone which helps them shop local.\n\n\n\nWe are excited about this new technology and believe that our Local Lynx partnership will help our community continue to grow and thrive. Join us at the Ashland Chamber office on Wednesday\, July 27\, 2016 at 8:00 am for a free information session to learn more about Local Lynx and how to get  your business into this new marketing platform!\n\n\n\n       A light breakfast will be served while you learn about  Local Lynx\, and how other local\n\n        businesses are utilizing this new technology.\n\n       There is no obligation to buy\, and any local business can create a free listing!\n\n        If a company does decide to upgrade to a paid listing\, they will receive a free\n\n        month and an ongoing discount as a benefit of their Ashland Chamber membership!\n\n       This first information session is limited to 25 people. Please register today to secure\n\n       your spot online at www.ashlandoh.com or call Melissa at (419) 281-4584\, ext. 102.
X-ALT-DESC;FMTTYPE=text/html:Announcing Your NEW Ashland Chamber Benefit!<br />\n<br />\nWe are excited to announce our new partnership with Local Lynx to bring our members access totheir own customizable micro mobile app. The Local Lynx mission is to increase traffic to local Ashland Area businesses. They accomplish this by offering consumers a free tool on their smartphone which helps them shop local.<br />\n<br />\nWe are excited about this new technology and believe that our Local Lynx partnership will help our community continue to grow and thrive. Join us at the Ashland Chamber office on Wednesday\, July 27\, 2016 at 8:00 am for a free information session to learn more about Local Lynx and how to get&nbsp\; your business into this new marketing platform!<br />\n<br />\n&nbsp\;&nbsp\; &nbsp\;&bull\;&nbsp\; A light breakfast will be served while you learn about&nbsp\; Local Lynx\, and how other local<br />\n&nbsp\;&nbsp\;&nbsp\;&nbsp\;&nbsp\;&nbsp\;&nbsp\;&nbsp\;businesses are utilizing this new technology.<br />\n&nbsp\;&nbsp\; &nbsp\;&bull\;&nbsp\; There is no obligation to buy\, and any local business can create a free listing!<br />\n&nbsp\;&nbsp\; &nbsp\;&nbsp\;&nbsp\;&nbsp\; If a company does decide to upgrade to a paid listing\, they will receive a free<br />\n&nbsp\;&nbsp\; &nbsp\;&nbsp\;&nbsp\;&nbsp\; month and an ongoing discount as a benefit of their Ashland Chamber membership!<br />\n&nbsp\;&nbsp\; &nbsp\;&bull\;&nbsp\; This first information session is limited to 25 people. Please register today to secure<br />\n&nbsp\;&nbsp\; &nbsp\;&nbsp\;&nbsp\; your spot online at www.ashlandoh.com or call Melissa at (419) 281-4584\, ext. 102.<br />\n&nbsp\;
LOCATION:Chamber office conference room 211 Claremont Ave\, Ashland\, OH (419) 281-4584
UID:e.1651.4147
SEQUENCE:3
DTSTAMP:20260420T173244Z
URL:https://members.ashlandoh.com/events/details/local-lynx-informational-meeting-07-27-2016-4147
END:VEVENT

END:VCALENDAR
