BEGIN:VCALENDAR
VERSION:2.0
PRODID:-//ChamberMaster//Event Calendar 2.0//EN
METHOD:PUBLISH
X-PUBLISHED-TTL:P3D
REFRESH-INTERVAL:P3D
CALSCALE:GREGORIAN
BEGIN:VEVENT
DTSTART:20141209T163000Z
DTEND:20141209T180000Z
X-MICROSOFT-CDO-ALLDAYEVENT:FALSE
SUMMARY:Lunch & Learn - Alternative Energy 12-9-14
DESCRIPTION:Alternative Energy - Updates\n\nDate: Tuesday\, December 9\, 2014\n\nTime: 11:30 am - 1:00 pm\n\nPlace: O.D.O.T - District 3 Office - Ashland\n\nCost: $15 pp - registration required\n\n\n\nThis special Lunch & Learn session will cover the future energy market and the never ending phone calls for your business. \n\n\n	Where is the market heading - get first hand information about current and future issues\n	What is all the hype about - learn to distinguish between "quick deals" and legitimate programs that really save you money\n	Who can you trust - don't be deceived by scare tactics and confusing solicitations
X-ALT-DESC;FMTTYPE=text/html:<span style="color:#006699\;"><span style="font-size: 16px\;"><strong>Alternative Energy - Updates</strong></span></span><br />\nDate: Tuesday\, December 9\, 2014<br />\nTime: 11:30 am - 1:00 pm<br />\nPlace: O.D.O.T - District 3 Office - Ashland<br />\nCost: $15 pp - registration required<br />\n<br />\n<span style="color:#006699\;"><strong>This special Lunch &amp\; Learn session will cover the future energy market and the never ending phone calls for your business. </strong></span>\n\n<ul>\n	<li><em><strong>Where is the market heading</strong></em> - get first hand information about current and future issues</li>\n	<li><em><strong>What is all the hype abou</strong></em>t - learn to distinguish between &quot\;quick deals&quot\; and legitimate programs that really save you money</li>\n	<li><em><strong>Who can you trust</strong></em> - don&#39\;t be deceived by scare tactics and confusing solicitations</li>\n</ul>\n<span style="color:#B22222\;">&nbsp\;</span><br />\n&nbsp\;
LOCATION:ODOT - District 3 906 Clark Ave. Ashland OH 44805
UID:e.1651.1621
SEQUENCE:3
DTSTAMP:20260422T043735Z
URL:https://members.ashlandoh.com/events/details/lunch-learn-alternative-energy-12-9-14-12-09-2014-1621
END:VEVENT

END:VCALENDAR
