BEGIN:VCALENDAR
VERSION:2.0
PRODID:-//ChamberMaster//Event Calendar 2.0//EN
METHOD:PUBLISH
X-PUBLISHED-TTL:P3D
REFRESH-INTERVAL:P3D
CALSCALE:GREGORIAN
BEGIN:VEVENT
DTSTART:20130328T120000Z
DTEND:20130328T133000Z
X-MICROSOFT-CDO-ALLDAYEVENT:FALSE
SUMMARY:M2M Marketing 3-28-13
DESCRIPTION:"IT'S INFOMERCIAL TIME. "\n\n	Join us for a fun\, Open Forum designed just for members to share their key business value propositions.\nDid you know? Effective Info-Minutes results in referrals.\n\n	Be simple\, powerful and memorable!\n\n	Come and practice presenting your business infomercial. Remember to bring your business cards and any marketing materials you want to share.
X-ALT-DESC;FMTTYPE=text/html:<p>\n	<span style="color: rgb(255\, 102\, 0)\;"><span style="font-size: x-large\;"><strong>&ldquo\;IT&#39\;S INFOMER</strong><strong>CIAL TIME. &rdquo\;</strong></span></span></p>\n<p>\n	<strong>Join us for a fun\, Open Forum designed just for members to share their key business value propositions.</strong></p>\n<span style="font-size: large\;"><span style="color: rgb(255\, 102\, 0)\;"><strong><strong><em>Did you know? Effective Info-Minutes results in referrals.</em></strong></strong></span></span>\n<p>\n	<span style="font-size: large\;"><span style="color: rgb(255\, 102\, 0)\;"><strong><strong><em>Be simple\, powerful and memorable!</em></strong></strong></span></span></p>\n<p>\n	<strong>Come and practice presenting your business infomercial. Remember to bring your business cards and any marketing materials you want to share. </strong></p>\n
LOCATION:Kroc Center Community Room 527 E. Liberty St.\, Ashland\, OH 44805
UID:e.1651.564
SEQUENCE:3
DTSTAMP:20260423T133312Z
URL:https://members.ashlandoh.com/events/details/m2m-marketing-3-28-13-03-28-2013-564
END:VEVENT

END:VCALENDAR
