BEGIN:VCALENDAR
VERSION:2.0
PRODID:-//ChamberMaster//Event Calendar 2.0//EN
METHOD:PUBLISH
X-PUBLISHED-TTL:P3D
REFRESH-INTERVAL:P3D
CALSCALE:GREGORIAN
BEGIN:VEVENT
DTSTART:20171013T204500Z
DTEND:20171013T211500Z
X-MICROSOFT-CDO-ALLDAYEVENT:FALSE
SUMMARY:Masterminds Escape Room & Game Library - Ribbon Cutting 10-13-17
DESCRIPTION:Join us for a Ribbon Cutting celebrating the opening of our business. Tour the facility and learn about all the things we have to offer.\n\n\n\nWhat: Masterminds Ribbon Cutting Event\n\nDate: Friday\, October 13\, 2017\n\nTime: 4:45 pm - sharp\n\nPlace: 33 W Main St.\, Ashland OH 44805\n\nCost: Free - bring your business cards
X-ALT-DESC;FMTTYPE=text/html:Join us for a Ribbon Cutting celebrating the opening of our business. Tour the facility and learn about all the things we have to offer.<br />\n<br />\n<strong>What: Masterminds Ribbon Cutting Event</strong><br />\nDate: Friday\, October 13\, 2017<br />\nTime: 4:45 pm - sharp<br />\nPlace: 33 W Main St.\, Ashland OH 44805<br />\nCost: Free - bring your business cards<br />\n&nbsp\;
LOCATION:Masterminds 33 W Main St. Ashland OH 44805
UID:e.1651.5374
SEQUENCE:3
DTSTAMP:20260419T154951Z
URL:https://members.ashlandoh.com/events/details/masterminds-escape-room-game-library-ribbon-cutting-10-13-17-5374
END:VEVENT

END:VCALENDAR
