BEGIN:VCALENDAR
VERSION:2.0
PRODID:-//ChamberMaster//Event Calendar 2.0//EN
METHOD:PUBLISH
X-PUBLISHED-TTL:P3D
REFRESH-INTERVAL:P3D
CALSCALE:GREGORIAN
BEGIN:VEVENT
DTSTART:20260108T210000Z
DTEND:20260108T220000Z
X-MICROSOFT-CDO-ALLDAYEVENT:FALSE
SUMMARY:Mechanics Bank Ribbon Cutting & Open House
DESCRIPTION:Join Mechanics Bank as they ceremoniously cut a ribbon to celebrate the opening of their newest location - right here in Ashland!
X-ALT-DESC;FMTTYPE=text/html:<span style="font-size:14px\;"><span style="font-family:arial\;">Join Mechanics Bank as they <span style="color: rgb(71\, 71\, 71)\;">ceremoniously&nbsp\;</span>cut a ribbon to celebrate the opening of their newest location - right here in Ashland!&nbsp\;</span></span>
LOCATION:Mechanics Bank 1040 George Rd Ashland\, OH 44805
UID:e.1651.6507
SEQUENCE:3
DTSTAMP:20260419T121550Z
URL:https://members.ashlandoh.com/events/details/mechanics-bank-ribbon-cutting-open-house-6507
END:VEVENT

END:VCALENDAR
