BEGIN:VCALENDAR
VERSION:2.0
PRODID:-//ChamberMaster//Event Calendar 2.0//EN
METHOD:PUBLISH
X-PUBLISHED-TTL:P3D
REFRESH-INTERVAL:P3D
CALSCALE:GREGORIAN
BEGIN:VEVENT
DTSTART:20140327T120000Z
DTEND:20140327T133000Z
X-MICROSOFT-CDO-ALLDAYEVENT:FALSE
SUMMARY:Member to Member Marketing 3-27-14
DESCRIPTION:"IT'S INFOMERCIAL TIME. "\n\nJoin us for a fun\, Open Forum designed just for members to share their key business value propositions.\nDid you know? Effective Info-Minutes results in referrals.\n\nBe simple\, powerful and memorable!\n\nCome and practice presenting your business infomercial. Remember to bring your business cards and any marketing materials you want to share.
X-ALT-DESC;FMTTYPE=text/html:<div class="mn-event-content">\n<div class="mn-raw mn-print-url" itemprop="description">\n<p><span style="color: rgb(255\, 102\, 0)\;"><span style="font-size: x-large\;"><strong>&ldquo\;IT&#39\;S INFOMER</strong><strong>CIAL TIME. &rdquo\;</strong></span></span></p>\n\n<p><strong>Join us for a fun\, Open Forum designed just for members to share their key business value propositions.</strong></p>\n<span style="font-size: large\;"><span style="color: rgb(255\, 102\, 0)\;"><strong><strong><em>Did you know? Effective Info-Minutes results in referrals.</em></strong></strong></span></span>\n\n<p><span style="font-size: large\;"><span style="color: rgb(255\, 102\, 0)\;"><strong><strong><em>Be simple\, powerful and memorable!</em></strong></strong></span></span></p>\n\n<p><strong>Come and practice presenting your business infomercial. Remember to bring your business cards and any marketing materials you want to share. </strong></p>\n</div>\n</div>\n
LOCATION:Salvation Army Kroc Center 527 E Liberty St.\, Ashland OH
UID:e.1651.673
SEQUENCE:3
DTSTAMP:20260422T192228Z
URL:https://members.ashlandoh.com/events/details/member-to-member-marketing-3-27-14-03-27-2014-673
END:VEVENT

END:VCALENDAR
