BEGIN:VCALENDAR
VERSION:2.0
PRODID:-//ChamberMaster//Event Calendar 2.0//EN
METHOD:PUBLISH
X-PUBLISHED-TTL:P3D
REFRESH-INTERVAL:P3D
CALSCALE:GREGORIAN
BEGIN:VEVENT
DTSTART:20130926T120000Z
DTEND:20130926T133000Z
X-MICROSOFT-CDO-ALLDAYEVENT:FALSE
SUMMARY:Member to Member Marketing 9-26-13
DESCRIPTION:"IT'S INFOMERCIAL TIME. "\n		\n			Join us for a fun\, Open Forum designed just for members to share their key business value propositions.\n		Did you know? Effective Info-Minutes results in referrals.\n		\n			Be simple\, powerful and memorable!\n		\n			Come and practice presenting your business infomercial. Remember to bring your business cards and any marketing materials you want to share.
X-ALT-DESC;FMTTYPE=text/html:<div class="mn-event-content">\n	<div class="mn-raw mn-print-url" itemprop="description">\n		<p>\n			<span style="color: rgb(255\, 102\, 0)\;"><span style="font-size: x-large\;"><strong>&ldquo\;IT&#39\;S INFOMER</strong><strong>CIAL TIME. &rdquo\;</strong></span></span></p>\n		<p>\n			<strong>Join us for a fun\, Open Forum designed just for members to share their key business value propositions.</strong></p>\n		<span style="font-size: large\;"><span style="color: rgb(255\, 102\, 0)\;"><strong><strong><em>Did you know? Effective Info-Minutes results in referrals.</em></strong></strong></span></span>\n		<p>\n			<span style="font-size: large\;"><span style="color: rgb(255\, 102\, 0)\;"><strong><strong><em>Be simple\, powerful and memorable!</em></strong></strong></span></span></p>\n		<p>\n			<strong>Come and practice presenting your business infomercial. Remember to bring your business cards and any marketing materials you want to share. </strong></p>\n	</div>\n</div>\n
LOCATION:Chamber Office 211 Claremont Ave. Ashland\, OH 44805
UID:e.1651.881
SEQUENCE:3
DTSTAMP:20260423T035843Z
URL:https://members.ashlandoh.com/events/details/member-to-member-marketing-9-26-13-09-26-2013-881
END:VEVENT

END:VCALENDAR
