BEGIN:VCALENDAR
VERSION:2.0
PRODID:-//ChamberMaster//Event Calendar 2.0//EN
METHOD:PUBLISH
X-PUBLISHED-TTL:P3D
REFRESH-INTERVAL:P3D
CALSCALE:GREGORIAN
BEGIN:VEVENT
DTSTART:20120814T120000Z
DTEND:20120814T133000Z
X-MICROSOFT-CDO-ALLDAYEVENT:FALSE
SUMMARY:Member To Member Marketing - It's Infomercial Time
DESCRIPTION:
X-ALT-DESC;FMTTYPE=text/html:
LOCATION:The Salvation Army Ashland Kroc Center
UID:e.1651.214
SEQUENCE:3
DTSTAMP:20260424T014458Z
URL:https://members.ashlandoh.com/events/details/member-to-member-marketing-it-s-infomercial-time-08-14-2012-214
END:VEVENT

END:VCALENDAR
