BEGIN:VCALENDAR
VERSION:2.0
PRODID:-//ChamberMaster//Event Calendar 2.0//EN
METHOD:PUBLISH
X-PUBLISHED-TTL:P3D
REFRESH-INTERVAL:P3D
CALSCALE:GREGORIAN
BEGIN:VEVENT
DTSTART:20131127T130000Z
DTEND:20131127T140000Z
X-MICROSOFT-CDO-ALLDAYEVENT:FALSE
SUMMARY:Membership Level Forum 11-27-13 #1
DESCRIPTION:Do you need more information on our "NEW" Membership Levels and the benefits that come with them? Do you need clarification on the "CREDITS" that come with your specific level and how to use them? This session is for you!
X-ALT-DESC;FMTTYPE=text/html:Do you need more information on our &quot\;NEW&quot\; Membership Levels and the benefits that come with them? Do you need clarification on the &quot\;CREDITS&quot\; that come with your specific level and how to use them? This session is for you!
LOCATION:Chamber office: 211 Claremont Ave.\, Ashland
UID:e.1651.929
SEQUENCE:3
DTSTAMP:20260423T003729Z
URL:https://members.ashlandoh.com/events/details/membership-level-forum-11-27-13-1-11-27-2013-929
END:VEVENT

END:VCALENDAR
