BEGIN:VCALENDAR
VERSION:2.0
PRODID:-//ChamberMaster//Event Calendar 2.0//EN
METHOD:PUBLISH
X-PUBLISHED-TTL:P3D
REFRESH-INTERVAL:P3D
CALSCALE:GREGORIAN
BEGIN:VEVENT
DTSTART:20170830T150000Z
DTEND:20170830T190000Z
X-MICROSOFT-CDO-ALLDAYEVENT:FALSE
SUMMARY:Mini Expo and Workshop Event 8-30-17
DESCRIPTION:Join us for a Mini - Expo featuring our newest members.\n\nThis will be an outdoor event with booths filling the parking lot. Members and the community are encouraged to come and browse the booths and then head on down to the Farmers Market in Lot B.\n\nWe will also be holding 3 short workshops during this time. Feel free to attend the ones that fit your needs.\n\n     11:00 - 11:45 am - Workshop 1 - Tips for Mobile Phone Pictures with Isaac Coffy - Coffy Creations Photography\n\n     12:00 - 12:45 pm - Workshop 2 - LinkedIn with Jake Coffy - Flight Media\n\n     1:00 - 1:45 pm - Workshop 3 - LocaLynx Mobile App with Shane Hostettler - LocaLynx\n\n\n\nClick Here  for Vendor Registration Information
X-ALT-DESC;FMTTYPE=text/html:<strong>Join us for a Mini - Expo featuring our newest members.</strong><br />\n<em><span style="font-size:12px\;">This will be an outdoor event with booths filling the parking lot. Members and the community are encouraged to come and browse the booths and then head on down to the Farmers Market in Lot B.</span></em><br />\n<strong>We will also be holding 3 short workshops</strong> during this time. Feel free to attend the ones that fit your needs.<br />\n<span style="font-size:12px\;"><strong><span style="color:#0000CD\;">&nbsp\;&nbsp\;&nbsp\;&nbsp\; 11:00 - 11:45 am</span></strong> - Workshop 1 - Tips for Mobile Phone Pictures with Isaac Coffy - Coffy Creations Photography<br />\n<span style="color:#0000CD\;"><strong>&nbsp\;&nbsp\;&nbsp\;&nbsp\; 12:00 - 12:45 pm</strong></span> - Workshop 2 - LinkedIn with Jake Coffy - Flight Media<br />\n<span style="color:#0000CD\;"><strong>&nbsp\;&nbsp\;&nbsp\;&nbsp\; 1:00 - 1:45 pm</strong></span> - Workshop 3 - LocaLynx Mobile App with Shane Hostettler - LocaLynx</span><br />\n<br />\n<strong><a href="https://chambermaster.blob.core.windows.net/userfiles/UserFiles/chambers/1651/File/Events/2017_Mini_Expo/VendorandWorkshopRegistrationsheetfornewsletter7-26-17.pdf" target="_blank"><span style="color:#B22222\;"><span style="background-color:#FFFF00\;">Click Here</span></span></a> </strong> for Vendor Registration Information
LOCATION:Chamber Office 211 Claremont Ave. Ashland OH 44805
UID:e.1651.5341
SEQUENCE:3
DTSTAMP:20260419T191330Z
URL:https://members.ashlandoh.com/events/details/mini-expo-and-workshop-event-8-30-17-5341
END:VEVENT

END:VCALENDAR
