BEGIN:VCALENDAR
VERSION:2.0
PRODID:-//ChamberMaster//Event Calendar 2.0//EN
METHOD:PUBLISH
X-PUBLISHED-TTL:P3D
REFRESH-INTERVAL:P3D
CALSCALE:GREGORIAN
BEGIN:VEVENT
DTSTART:20160713T153000Z
DTEND:20160713T180000Z
X-MICROSOFT-CDO-ALLDAYEVENT:FALSE
SUMMARY:Mr. Appliance Ribbon Cutting 7-13-16 and event
DESCRIPTION:Join us for a ribbon cutting\, great networking and some good food.\n\nWhat: Mr. Appliance Ribbon Cutting\n\nWhen: Wednesday\, July 13\, 2016\n\nWhere: Chamber Office Parking Lot - 211 Claremont Ave. Ashland\n\nTime: 11:30 am - 2:00 pm (Ribbon Cutting at 12:00 noon)\n\nWetstone Concessions will be offering the following for sale:\n\n\n	Hamburgers\, Hot Dogs\n	Homemade - Macaroni and Potato Salad\n	Fresh brewed Ice-Tea\, Pop\, water\n	Homemade Cookies
X-ALT-DESC;FMTTYPE=text/html:<span style="color:#0000CD\;"><strong>Join us for a ribbon cutting\, great networking and some good food.</strong></span><br />\n<strong>What: Mr. Appliance Ribbon Cutting</strong><br />\nWhen: Wednesday\, July 13\, 2016<br />\nWhere: Chamber Office Parking Lot - 211 Claremont Ave. Ashland<br />\nTime: 11:30 am - 2:00 pm (Ribbon Cutting at 12:00 noon)<br />\n<em><strong>Wetstone Concessions will be offering the following for sale:</strong></em>\n\n<ul>\n	<li><em>Hamburgers\, Hot Dogs</em></li>\n	<li><em>Homemade - Macaroni and Potato Salad</em></li>\n	<li><em>Fresh brewed Ice-Tea\, Pop\, water</em></li>\n	<li><em>Homemade Cookies</em></li>\n</ul>\n
LOCATION:Chamber Office 211 Claremont Ave.
UID:e.1651.4134
SEQUENCE:3
DTSTAMP:20260420T190718Z
URL:https://members.ashlandoh.com/events/details/mr-appliance-ribbon-cutting-7-13-16-and-event-07-13-2016-4134
END:VEVENT

END:VCALENDAR
