BEGIN:VCALENDAR
VERSION:2.0
PRODID:-//ChamberMaster//Event Calendar 2.0//EN
METHOD:PUBLISH
X-PUBLISHED-TTL:P3D
REFRESH-INTERVAL:P3D
CALSCALE:GREGORIAN
BEGIN:VEVENT
DTSTART:20121106T150000Z
DTEND:20121106T170000Z
X-MICROSOFT-CDO-ALLDAYEVENT:FALSE
SUMMARY:Multi-Business Spotlight 11/6/2012
DESCRIPTION:Multi Business Spotlight Featuring:\n\nArmordyne Computer Solutions\n\nBeltone Hearing Specialists\n\nHerbal Wraps Spa\n\nPenske of Ashland\n\nZ's Hair Design
X-ALT-DESC;FMTTYPE=text/html:<strong>Multi Business Spotlight Featuring:</strong><br />\nArmordyne Computer Solutions<br />\nBeltone Hearing Specialists<br />\nHerbal Wraps Spa<br />\nPenske of Ashland<br />\nZ&#39\;s Hair Design<br />\n
LOCATION:1011 E Main St. Ashland OH 44805
UID:e.1651.586
SEQUENCE:3
DTSTAMP:20260423T201521Z
URL:https://members.ashlandoh.com/events/details/multi-business-spotlight-11-6-2012-11-06-2012-586
END:VEVENT

END:VCALENDAR
