BEGIN:VCALENDAR
VERSION:2.0
PRODID:-//ChamberMaster//Event Calendar 2.0//EN
METHOD:PUBLISH
X-PUBLISHED-TTL:P3D
REFRESH-INTERVAL:P3D
CALSCALE:GREGORIAN
BEGIN:VEVENT
DTSTART:20130822T203000Z
DTEND:20130822T220000Z
X-MICROSOFT-CDO-ALLDAYEVENT:FALSE
SUMMARY:Multi-Business Spotlight 8-22-13
DESCRIPTION:Join us as we spotlight our Members at this event.
X-ALT-DESC;FMTTYPE=text/html:Join us as we spotlight our&nbsp\;Members at this event.<br />\n
LOCATION:Ray & Joan Kroc Corps Community Center - 527 E Liberty St Ashland\, OH 44805 (419) 281-8001
UID:e.1651.622
SEQUENCE:3
DTSTAMP:20260423T052400Z
URL:https://members.ashlandoh.com/events/details/multi-business-spotlight-8-22-13-08-22-2013-622
END:VEVENT

END:VCALENDAR
