BEGIN:VCALENDAR
VERSION:2.0
PRODID:-//ChamberMaster//Event Calendar 2.0//EN
METHOD:PUBLISH
X-PUBLISHED-TTL:P3D
REFRESH-INTERVAL:P3D
CALSCALE:GREGORIAN
BEGIN:VEVENT
DTSTART:20161112T230000Z
DTEND:20161113T020000Z
X-MICROSOFT-CDO-ALLDAYEVENT:FALSE
SUMMARY:Murder Mystery - Lights! Camera! Murder! 11-12-16
DESCRIPTION:Lights! Camera! Murder!\n\nJoin the fun! Come dressed in your favorite Film Star Costume. Prize to the best dressed.\n\n\n\nDate: Saturday\, November 12\, 2016\n\nTime: 6:00 - 9:00 pm\n\nPlace: Mitchell's Orchard & Farm Market\n\n1217 N Baney Rd.\, Ashland\n\nCost: $20 pp
X-ALT-DESC;FMTTYPE=text/html:<br />\n<span style="font-size:16px\;"><strong>Lights! Camera! Murder!</strong></span><br />\n<em>Join the fun! Come dressed in your favorite Film Star Costume. Prize to the best dressed.</em><br />\n<br />\n<strong>Date: </strong>Saturday\, November 12\, 2016<br />\n<strong>Time: </strong>6:00 - 9:00 pm<br />\n<strong>Place: </strong>Mitchell&#39\;s Orchard &amp\; Farm Market<br />\n1217 N Baney Rd.\, Ashland<br />\n<strong>Cost: </strong>$20 pp<br />\n&nbsp\;
LOCATION:Mitchell's Orchard & Farm Market 1217 N Baney Rd. Ashland OH 44805
UID:e.1651.4157
SEQUENCE:3
DTSTAMP:20260420T104029Z
URL:https://members.ashlandoh.com/events/details/murder-mystery-lights-camera-murder-11-12-16-11-12-2016-4157
END:VEVENT

END:VCALENDAR
