BEGIN:VCALENDAR
VERSION:2.0
PRODID:-//ChamberMaster//Event Calendar 2.0//EN
METHOD:PUBLISH
X-PUBLISHED-TTL:P3D
REFRESH-INTERVAL:P3D
CALSCALE:GREGORIAN
BEGIN:VEVENT
DTSTART:20171111T230000Z
DTEND:20171112T020000Z
X-MICROSOFT-CDO-ALLDAYEVENT:FALSE
SUMMARY:Murder Mystery - Murder Among The Mateys 11-11-17
DESCRIPTION:The Ashland Area Convention and Visitors Bureau Presents: "Murder Among The Mateys"\n\n\n\nOnly 100 Pre-Sold Tickets available. Come dressed in your best Pirate Outfit - prize for the best dressed!\n\n\n\nWell\, shiver me timbers and sharpen me sword! After a voyage filled with pillaging and plundering\, the Jaded Jewel - a pirate ship captained by Redbeard\, an old but dangerous pirate - is docked in a cove near Port Royal. As the pirates head into town to celebrate their homecoming and spend their gold and goods\, a night of turmoil and trouble is sure to transpire.\n\n\n\nDate: Saturday\, November 11\, 2017\n\nTime: 6:00 - 9:00 pm\n\nPlace: Mitchell's Orchard & Farm Market\n\n1217 N Baney Rd.\, Ashland\n\nCost: $30 pp\n\nCall the Ashland CVB (419) 281-4584 ext 101 or Mitchell's Orchard (419) 207-0746 to order your tickets.\n\n\n\nCLICK HERE FOR AN EVENT FLYER!
X-ALT-DESC;FMTTYPE=text/html:<span style="color:#800000\;"><span style="font-size: 16px\;"><strong>The Ashland Area Convention and Visitors Bureau Presents: &quot\;Murder Among The Mateys&quot\;</strong></span></span><br />\n<br />\n<em>Only 100 Pre-Sold Tickets available. Come dressed in your best Pirate Outfit - prize for the best dressed!</em><br />\n<br />\n<span style="color:#800000\;"><strong>Well\, shiver me timbers and sharpen me sword! After a voyage filled with pillaging and plundering\, the Jaded Jewel - a pirate ship captained by Redbeard\, an old but dangerous pirate - is docked in a cove near Port Royal. As the pirates head into town to celebrate their homecoming and spend their gold and goods\, a night of turmoil and trouble is sure to transpire.</strong></span><br />\n<br />\n<strong>Date: </strong>Saturday\, November 11\, 2017<br />\n<strong>Time: </strong>6:00 - 9:00 pm<br />\n<strong>Place: </strong>Mitchell&#39\;s Orchard &amp\; Farm Market<br />\n1217 N Baney Rd.\, Ashland<br />\n<strong>Cost: </strong>$30 pp<br />\nCall the Ashland CVB (419) 281-4584 ext 101 or Mitchell&#39\;s Orchard (419) 207-0746 to order your tickets.<br />\n<br />\n<strong><a href="https://chambermaster.blob.core.windows.net/userfiles/UserFiles/chambers/1651/File/Events/2017_CVB_Murder_Mystery/Mateysposterforwebsite.pdf" target="_blank"><span style="color:#800000\;">CLICK HERE FOR AN EVENT FLYER!</span></a></strong><span style="color:#800080\;"> </span>
LOCATION:Mitchell's Orchard & Farm Market 1217 N Baney Rd. Ashland OH 44805
UID:e.1651.5363
SEQUENCE:3
DTSTAMP:20260419T153637Z
URL:https://members.ashlandoh.com/events/details/murder-mystery-murder-among-the-mateys-11-11-17-5363
END:VEVENT

END:VCALENDAR
