BEGIN:VCALENDAR
VERSION:2.0
PRODID:-//ChamberMaster//Event Calendar 2.0//EN
METHOD:PUBLISH
X-PUBLISHED-TTL:P3D
REFRESH-INTERVAL:P3D
CALSCALE:GREGORIAN
BEGIN:VEVENT
DTSTART;VALUE=DATE:20140101
DTEND;VALUE=DATE:20140102
TRANSP:TRANSPARENT
X-MICROSOFT-CDO-ALLDAYEVENT:TRUE
SUMMARY:OFFICES CLOSED
DESCRIPTION:Wednesday (Jan 1st)\n\nThe Chamber offices will be closed today in observance of New Year's Day. We will re-open on Thursday\, January 2nd.
X-ALT-DESC;FMTTYPE=text/html:<strong>Wednesday (Jan 1st)</strong><br />\nThe Chamber offices will be closed today in observance of New Year&#39\;s Day. We will re-open on Thursday\, January 2nd. 
LOCATION:
UID:e.1651.671
SEQUENCE:3
DTSTAMP:20260422T205627Z
URL:https://members.ashlandoh.com/events/details/offices-closed-01-01-2014-671
END:VEVENT

END:VCALENDAR
