BEGIN:VCALENDAR
VERSION:2.0
PRODID:-//ChamberMaster//Event Calendar 2.0//EN
METHOD:PUBLISH
X-PUBLISHED-TTL:P3D
REFRESH-INTERVAL:P3D
CALSCALE:GREGORIAN
BEGIN:VEVENT
DTSTART:20160101T123000Z
DTEND:20160101T220000Z
X-MICROSOFT-CDO-ALLDAYEVENT:FALSE
SUMMARY:OFFICES CLOSED
DESCRIPTION:Friday (Jan. 1st)\n\nThe Chamber offices will be closed today in observance of New Year's Day. We will re-open on Monday\, January 4th.
X-ALT-DESC;FMTTYPE=text/html:<strong>Friday (Jan. 1st)</strong><br />\nThe Chamber offices will be closed today in observance of New Year&#39\;s Day. We will re-open on Monday\, January 4th. 
LOCATION:
UID:e.1651.1398
SEQUENCE:3
DTSTAMP:20260421T035818Z
URL:https://members.ashlandoh.com/events/details/offices-closed-01-01-2016-1398
END:VEVENT

END:VCALENDAR
