BEGIN:VCALENDAR
VERSION:2.0
PRODID:-//ChamberMaster//Event Calendar 2.0//EN
METHOD:PUBLISH
X-PUBLISHED-TTL:P3D
REFRESH-INTERVAL:P3D
CALSCALE:GREGORIAN
BEGIN:VEVENT
DTSTART;VALUE=DATE:20140106
DTEND;VALUE=DATE:20140107
TRANSP:TRANSPARENT
X-MICROSOFT-CDO-ALLDAYEVENT:TRUE
SUMMARY:Offices Closed
DESCRIPTION:Chamber Offices CLOSED today due to inclement weather. We will re-open at 8:00 a.m. tomorrow.
X-ALT-DESC;FMTTYPE=text/html:Chamber Offices CLOSED today due to inclement weather. We will re-open at 8:00 a.m. tomorrow.
LOCATION:
UID:e.1651.1390
SEQUENCE:3
DTSTAMP:20260422T225059Z
URL:https://members.ashlandoh.com/events/details/offices-closed-01-06-2014-1390
END:VEVENT

END:VCALENDAR
