BEGIN:VCALENDAR
VERSION:2.0
PRODID:-//ChamberMaster//Event Calendar 2.0//EN
METHOD:PUBLISH
X-PUBLISHED-TTL:P3D
REFRESH-INTERVAL:P3D
CALSCALE:GREGORIAN
BEGIN:VEVENT
DTSTART;VALUE=DATE:20140418
DTEND;VALUE=DATE:20140419
TRANSP:TRANSPARENT
X-MICROSOFT-CDO-ALLDAYEVENT:TRUE
SUMMARY:OFFICES CLOSED
DESCRIPTION:GOOD FRIDAY\n\nThe Chamber offices will be closed today in observance of Good Friday. We will re-open on Monday\, April 21st.
X-ALT-DESC;FMTTYPE=text/html:<span style="font-size:12px\;"><span style="font-family: arial\;"><span style="font-family:verdana\;"><span style="font-size: 16px\;"><span style="color: rgb(128\, 0\, 128)\;"><strong>GOOD FRIDAY</strong></span></span></span><br />\nThe Chamber offices will be closed today in observance of Good Friday. We will re-open on Monday\, April 21st. </span></span><br />\n<br />\n
LOCATION:
UID:e.1651.675
SEQUENCE:3
DTSTAMP:20260422T155151Z
URL:https://members.ashlandoh.com/events/details/offices-closed-04-18-2014-675
END:VEVENT

END:VCALENDAR
