BEGIN:VCALENDAR
VERSION:2.0
PRODID:-//ChamberMaster//Event Calendar 2.0//EN
METHOD:PUBLISH
X-PUBLISHED-TTL:P3D
REFRESH-INTERVAL:P3D
CALSCALE:GREGORIAN
BEGIN:VEVENT
DTSTART:20150525T113000Z
DTEND:20150525T210000Z
X-MICROSOFT-CDO-ALLDAYEVENT:FALSE
SUMMARY:OFFICES CLOSED
DESCRIPTION:The Chamber offices will be closed today in observance of Memorial Day. We will re-open on Tuesday\, May 26th.
X-ALT-DESC;FMTTYPE=text/html:The Chamber offices will be closed today in observance of Memorial Day. We will re-open on Tuesday\, May 26th.
LOCATION:
UID:e.1651.775
SEQUENCE:3
DTSTAMP:20260421T181532Z
URL:https://members.ashlandoh.com/events/details/offices-closed-05-25-2015-775
END:VEVENT

END:VCALENDAR
