BEGIN:VCALENDAR
VERSION:2.0
PRODID:-//ChamberMaster//Event Calendar 2.0//EN
METHOD:PUBLISH
X-PUBLISHED-TTL:P3D
REFRESH-INTERVAL:P3D
CALSCALE:GREGORIAN
BEGIN:VEVENT
DTSTART:20140526T113000Z
DTEND:20140526T210000Z
X-MICROSOFT-CDO-ALLDAYEVENT:FALSE
SUMMARY:OFFICES CLOSED
DESCRIPTION:The Chamber Offices will be closed today in observance of Memorial Day. We will re-open the offices on Tuesday morning at 7:30 am.
X-ALT-DESC;FMTTYPE=text/html:<span style="color:#0000cd\;">The Chamber Offices will be closed today in observance of Memorial Day. We will re-open the offices on Tuesday morning at 7:30 am.</span>
LOCATION:
UID:e.1651.681
SEQUENCE:3
DTSTAMP:20260422T140504Z
URL:https://members.ashlandoh.com/events/details/offices-closed-05-26-2014-681
END:VEVENT

END:VCALENDAR
