BEGIN:VCALENDAR
VERSION:2.0
PRODID:-//ChamberMaster//Event Calendar 2.0//EN
METHOD:PUBLISH
X-PUBLISHED-TTL:P3D
REFRESH-INTERVAL:P3D
CALSCALE:GREGORIAN
BEGIN:VEVENT
DTSTART;VALUE=DATE:20130527
DTEND;VALUE=DATE:20130528
TRANSP:TRANSPARENT
X-MICROSOFT-CDO-ALLDAYEVENT:TRUE
SUMMARY:OFFICES CLOSED
DESCRIPTION:The Chamber of Commerce Office will be closed Monday\, May 27\, 2013 in observance of Memorial Day. We will re-open on Tuesday\, May 28\, 2013.
X-ALT-DESC;FMTTYPE=text/html:The Chamber of Commerce Office will be closed Monday\, May 27\, 2013 in observance of Memorial Day. We will re-open on Tuesday\, May 28\, 2013. 
LOCATION:
UID:e.1651.572
SEQUENCE:3
DTSTAMP:20260423T100831Z
URL:https://members.ashlandoh.com/events/details/offices-closed-05-27-2013-572
END:VEVENT

END:VCALENDAR
