BEGIN:VCALENDAR
VERSION:2.0
PRODID:-//ChamberMaster//Event Calendar 2.0//EN
METHOD:PUBLISH
X-PUBLISHED-TTL:P3D
REFRESH-INTERVAL:P3D
CALSCALE:GREGORIAN
BEGIN:VEVENT
DTSTART;VALUE=DATE:20130607
DTEND;VALUE=DATE:20130608
TRANSP:TRANSPARENT
X-MICROSOFT-CDO-ALLDAYEVENT:TRUE
SUMMARY:OFFICES CLOSED
DESCRIPTION:The Chamber office will be closed on Friday\, June 7th.\n\n\n\nPlease feel free to email your request or leave a voicemail message and we will get back with you on Monday\, June 10th when we re-open.\n\n\n\nHave a great weekend!
X-ALT-DESC;FMTTYPE=text/html:<strong>The Chamber office will be closed on Friday\, June 7<sup>th</sup>.</strong><br />\n<br />\nPlease feel free to email your request or leave a voicemail message and we will get back with you on Monday\, June 10<sup>th</sup> when we re-open.<br />\n<br />\n<em><strong>Have a great weekend!</strong></em>
LOCATION:
UID:e.1651.650
SEQUENCE:3
DTSTAMP:20260423T082817Z
URL:https://members.ashlandoh.com/events/details/offices-closed-06-07-2013-650
END:VEVENT

END:VCALENDAR
