BEGIN:VCALENDAR
VERSION:2.0
PRODID:-//ChamberMaster//Event Calendar 2.0//EN
METHOD:PUBLISH
X-PUBLISHED-TTL:P3D
REFRESH-INTERVAL:P3D
CALSCALE:GREGORIAN
BEGIN:VEVENT
DTSTART:20140704T113000Z
DTEND:20140704T210000Z
X-MICROSOFT-CDO-ALLDAYEVENT:FALSE
SUMMARY:OFFICES CLOSED
DESCRIPTION:The Chamber Offices will be closed today in observance of Independence Day. We will re-open on Monday\, July 7th at 7:30 am.
X-ALT-DESC;FMTTYPE=text/html:<span style="color:#0000cd\;">The Chamber Offices will be closed today in observance of Independence Day. We will re-open on Monday\, July 7th at 7:30 am.</span>
LOCATION:
UID:e.1651.683
SEQUENCE:3
DTSTAMP:20260422T103914Z
URL:https://members.ashlandoh.com/events/details/offices-closed-07-04-2014-683
END:VEVENT

END:VCALENDAR
