BEGIN:VCALENDAR
VERSION:2.0
PRODID:-//ChamberMaster//Event Calendar 2.0//EN
METHOD:PUBLISH
X-PUBLISHED-TTL:P3D
REFRESH-INTERVAL:P3D
CALSCALE:GREGORIAN
BEGIN:VEVENT
DTSTART:20130902T113000Z
DTEND:20130902T210000Z
X-MICROSOFT-CDO-ALLDAYEVENT:FALSE
SUMMARY:OFFICES CLOSED
DESCRIPTION:Monday\, Sept. 2nd\n\nThe Chamber offices will be closed today in observance of Labor Day. We will re-open on Tuesday\, September 3rd.
X-ALT-DESC;FMTTYPE=text/html:<strong>Monday\, Sept. 2nd</strong><br />\nThe Chamber offices will be closed today in observance of Labor Day. We will re-open on Tuesday\, September 3rd.
LOCATION:
UID:e.1651.891
SEQUENCE:3
DTSTAMP:20260423T035150Z
URL:https://members.ashlandoh.com/events/details/offices-closed-09-02-2013-891
END:VEVENT

END:VCALENDAR
