BEGIN:VCALENDAR
VERSION:2.0
PRODID:-//ChamberMaster//Event Calendar 2.0//EN
METHOD:PUBLISH
X-PUBLISHED-TTL:P3D
REFRESH-INTERVAL:P3D
CALSCALE:GREGORIAN
BEGIN:VEVENT
DTSTART:20150907T113000Z
DTEND:20150907T210000Z
X-MICROSOFT-CDO-ALLDAYEVENT:FALSE
SUMMARY:OFFICES CLOSED
DESCRIPTION:Monday\, Sept. 7th\n\nThe Chamber offices will be closed today in observance of Labor Day. We will re-open on Tuesday\, September 8th.
X-ALT-DESC;FMTTYPE=text/html:<strong>Monday\, Sept. 7th</strong><br />\nThe Chamber offices will be closed today in observance of Labor Day. We will re-open on Tuesday\, September 8th.
LOCATION:
UID:e.1651.796
SEQUENCE:3
DTSTAMP:20260421T111414Z
URL:https://members.ashlandoh.com/events/details/offices-closed-09-07-2015-796
END:VEVENT

END:VCALENDAR
