BEGIN:VCALENDAR
VERSION:2.0
PRODID:-//ChamberMaster//Event Calendar 2.0//EN
METHOD:PUBLISH
X-PUBLISHED-TTL:P3D
REFRESH-INTERVAL:P3D
CALSCALE:GREGORIAN
BEGIN:VEVENT
DTSTART:20171124T003000Z
DTEND:20171124T220000Z
X-MICROSOFT-CDO-ALLDAYEVENT:FALSE
SUMMARY:OFFICES CLOSED - 11/23 & 11/24 - Thanksgiving
DESCRIPTION:The Chamber offices will be closed on Thursday and Friday in observance of Thanksgiving. We will re-open on Monday\, November 27th.
X-ALT-DESC;FMTTYPE=text/html:<span style="font-size:14px\;"><strong><span style="font-family: arial\;">The Chamber offices will be closed on Thursday and Friday in observance of Thanksgiving. We will re-open on Monday\, November 27<sup>th</sup>. </span></strong></span>
LOCATION:
UID:e.1651.5377
SEQUENCE:3
DTSTAMP:20260419T140006Z
URL:https://members.ashlandoh.com/events/details/offices-closed-11-23-11-24-thanksgiving-5377
END:VEVENT

END:VCALENDAR
