BEGIN:VCALENDAR
VERSION:2.0
PRODID:-//ChamberMaster//Event Calendar 2.0//EN
METHOD:PUBLISH
X-PUBLISHED-TTL:P3D
REFRESH-INTERVAL:P3D
CALSCALE:GREGORIAN
BEGIN:VEVENT
DTSTART:20151126T123000Z
DTEND:20151127T220000Z
X-MICROSOFT-CDO-ALLDAYEVENT:FALSE
SUMMARY:OFFICES CLOSED
DESCRIPTION:Thursday (Nov 26th) & Friday (Nov 27th)\n\n\n\nThe Chamber offices will be closed Thursday and Friday in observance of Thanksgiving. We will re-open on Monday\, November 30th.
X-ALT-DESC;FMTTYPE=text/html:<br />\n<strong>Thursday (Nov 26th) &amp\; Friday (Nov 27th)</strong><br />\n<br />\nThe Chamber offices will be closed Thursday and Friday in observance of Thanksgiving. We will re-open on Monday\, November 30th. 
LOCATION:
UID:e.1651.789
SEQUENCE:3
DTSTAMP:20260421T072540Z
URL:https://members.ashlandoh.com/events/details/offices-closed-11-26-2015-789
END:VEVENT

END:VCALENDAR
