BEGIN:VCALENDAR
VERSION:2.0
PRODID:-//ChamberMaster//Event Calendar 2.0//EN
METHOD:PUBLISH
X-PUBLISHED-TTL:P3D
REFRESH-INTERVAL:P3D
CALSCALE:GREGORIAN
BEGIN:VEVENT
DTSTART:20141128T003000Z
DTEND:20141128T220000Z
X-MICROSOFT-CDO-ALLDAYEVENT:FALSE
SUMMARY:OFFICES CLOSED - 11/27 & 11/28
DESCRIPTION:Thursday (Nov. 27th) & Friday (Nov. 28th)\n\n\n\nThe Chamber offices will be closed on Thursday and Friday in observance of Thanksgiving. We will re-open on Monday\, December 1st.
X-ALT-DESC;FMTTYPE=text/html:<br />\n<span style="font-size:10px\;"><strong><span style="font-family: arial\;">Thursday (Nov. 27th) &amp\; Friday (Nov. 28th)<br />\n<br />\nThe Chamber offices will be closed on Thursday and Friday in observance of Thanksgiving. We will re-open on Monday\, December 1st.</span></strong></span>
LOCATION:
UID:e.1651.746
SEQUENCE:3
DTSTAMP:20260422T044424Z
URL:https://members.ashlandoh.com/events/details/offices-closed-11-27-11-28-11-27-2014-746
END:VEVENT

END:VCALENDAR
