BEGIN:VCALENDAR
VERSION:2.0
PRODID:-//ChamberMaster//Event Calendar 2.0//EN
METHOD:PUBLISH
X-PUBLISHED-TTL:P3D
REFRESH-INTERVAL:P3D
CALSCALE:GREGORIAN
BEGIN:VEVENT
DTSTART:20131223T123000Z
DTEND:20140101T220000Z
X-MICROSOFT-CDO-ALLDAYEVENT:FALSE
SUMMARY:OFFICES CLOSED
DESCRIPTION:Monday\, Dec. 23rd through Wednesday\, Jan. 1st \n\n\n\nThe Chamber offices will be closed on Monday\, December 23rd\, 2013 through Wednesday\, January 1st\, 2014 to allow our staff to spend time with their families for the holidays. We will re-open on Thursday\, January 2nd\, 2014
X-ALT-DESC;FMTTYPE=text/html:<strong>Monday\, Dec. 23rd through Wednesday\, Jan. 1st </strong><br />\n<br />\nThe Chamber offices will be closed on Monday\, December 23rd\, 2013 through Wednesday\, January 1st\, 2014 to allow our staff to spend time with their families for the holidays. We will re-open on Thursday\, January 2nd\, 2014 
LOCATION:
UID:e.1651.793
SEQUENCE:3
DTSTAMP:20260422T205719Z
URL:https://members.ashlandoh.com/events/details/offices-closed-12-23-2013-793
END:VEVENT

END:VCALENDAR
