BEGIN:VCALENDAR
VERSION:2.0
PRODID:-//ChamberMaster//Event Calendar 2.0//EN
METHOD:PUBLISH
X-PUBLISHED-TTL:P3D
REFRESH-INTERVAL:P3D
CALSCALE:GREGORIAN
BEGIN:VEVENT
DTSTART:20151224T123000Z
DTEND:20151225T220000Z
X-MICROSOFT-CDO-ALLDAYEVENT:FALSE
SUMMARY:OFFICES CLOSED
DESCRIPTION:Wednesday - Friday(Dec. 23 - 25)\n\n\n\nThe Chamber offices will be closed today in observance of Christmas. We will re-open on Monday\, January 4\, 2016.
X-ALT-DESC;FMTTYPE=text/html:<strong>Wednesday - Friday(Dec. 23 - 25)</strong><br />\n<br />\nThe Chamber offices will be closed today in observance of Christmas. We will re-open on Monday\, January 4\, 2016.
LOCATION:
UID:e.1651.2555
SEQUENCE:3
DTSTAMP:20260421T054845Z
URL:https://members.ashlandoh.com/events/details/offices-closed-12-24-2015-2555
END:VEVENT

END:VCALENDAR
