BEGIN:VCALENDAR
VERSION:2.0
PRODID:-//ChamberMaster//Event Calendar 2.0//EN
METHOD:PUBLISH
X-PUBLISHED-TTL:P3D
REFRESH-INTERVAL:P3D
CALSCALE:GREGORIAN
BEGIN:VEVENT
DTSTART:20151229T003000Z
DTEND:20151231T220000Z
X-MICROSOFT-CDO-ALLDAYEVENT:FALSE
SUMMARY:OFFICES CLOSED
DESCRIPTION:The Chamber Offices will be closed for the holidays\, and will re-open on Monday\, January 4\, 2016.\n\nHave a merry Christmas and Happy New Year!
X-ALT-DESC;FMTTYPE=text/html:The Chamber Offices will be closed for the holidays\, and will re-open on Monday\, January 4\, 2016.<br />\nHave a merry Christmas and Happy New Year!
LOCATION:
UID:e.1651.2562
SEQUENCE:3
DTSTAMP:20260421T055517Z
URL:https://members.ashlandoh.com/events/details/offices-closed-12-28-2015-2562
END:VEVENT

END:VCALENDAR
