BEGIN:VCALENDAR
VERSION:2.0
PRODID:-//ChamberMaster//Event Calendar 2.0//EN
METHOD:PUBLISH
X-PUBLISHED-TTL:P3D
REFRESH-INTERVAL:P3D
CALSCALE:GREGORIAN
BEGIN:VEVENT
DTSTART:20161223T123000Z
DTEND:20161230T220000Z
X-MICROSOFT-CDO-ALLDAYEVENT:FALSE
SUMMARY:OFFICES CLOSED - CHRISTMAS
DESCRIPTION:Friday\, December 23 - Monday\, January 2\n\n\n\nThe Chamber offices will be closed on Friday\, December 23\, 2016 through Monday\, January 2\, 2017 to allow our staff to spend time with their families for the holidays. We will re-open on Tuesday\, January 3\, 2017
X-ALT-DESC;FMTTYPE=text/html:<strong>Friday\, December 23 - Monday\, January 2</strong><br />\n<br />\nThe Chamber offices will be closed on Friday\, December 23\, 2016 through Monday\, January 2\, 2017 to allow our staff to spend time with their families for the holidays. We will re-open on Tuesday\, January 3\, 2017
LOCATION:
UID:e.1651.4210
SEQUENCE:3
DTSTAMP:20260420T102410Z
URL:https://members.ashlandoh.com/events/details/offices-closed-christmas-4210
END:VEVENT

END:VCALENDAR
