BEGIN:VCALENDAR
VERSION:2.0
PRODID:-//ChamberMaster//Event Calendar 2.0//EN
METHOD:PUBLISH
X-PUBLISHED-TTL:P3D
REFRESH-INTERVAL:P3D
CALSCALE:GREGORIAN
BEGIN:VEVENT
DTSTART:20141222T123000Z
DTEND:20141222T220000Z
X-MICROSOFT-CDO-ALLDAYEVENT:FALSE
SUMMARY:OFFICES CLOSED Dec 22 through Dec 26
DESCRIPTION:Monday - December 22nd through Friday - December 26th\n\n\n\nThe Chamber offices will be closed Monday through Friday (Dec. 22 - 26) in observance of Christmas. We will re-open on Monday\, December 29th at 7:30 am.
X-ALT-DESC;FMTTYPE=text/html:<strong>Monday - December 22nd through Friday - December 26th</strong><br />\n<br />\nThe Chamber offices will be closed Monday through Friday (Dec. 22 - 26) in observance of Christmas. We will re-open on Monday\, December 29th at 7:30 am.
LOCATION:Chamber Offices 211 Claremont Ave.\, Ashland OH 44805
UID:e.1651.1397
SEQUENCE:3
DTSTAMP:20260422T043610Z
URL:https://members.ashlandoh.com/events/details/offices-closed-dec-22-through-dec-26-12-22-2014-1397
END:VEVENT

END:VCALENDAR
