BEGIN:VCALENDAR
VERSION:2.0
PRODID:-//ChamberMaster//Event Calendar 2.0//EN
METHOD:PUBLISH
X-PUBLISHED-TTL:P3D
REFRESH-INTERVAL:P3D
CALSCALE:GREGORIAN
BEGIN:VEVENT
DTSTART:20141231T123000Z
DTEND:20150102T220000Z
X-MICROSOFT-CDO-ALLDAYEVENT:FALSE
SUMMARY:OFFICES CLOSED Dec 31 through Jan 2
DESCRIPTION:Wednesday (Dec. 31st) through Friday (Jan. 2nd)\n\nThe Chamber offices will be closed in observance of New Year's Day. We will re-open on Monday\, January 5th
X-ALT-DESC;FMTTYPE=text/html:<strong>Wednesday (Dec. 31st) through Friday (Jan. 2nd)</strong><br />\nThe Chamber offices will be closed in observance of New Year&#39\;s Day. We will re-open on Monday\, January 5th
LOCATION:
UID:e.1651.794
SEQUENCE:3
DTSTAMP:20260422T011535Z
URL:https://members.ashlandoh.com/events/details/offices-closed-dec-31-through-jan-2-12-31-2014-794
END:VEVENT

END:VCALENDAR
