BEGIN:VCALENDAR
VERSION:2.0
PRODID:-//ChamberMaster//Event Calendar 2.0//EN
METHOD:PUBLISH
X-PUBLISHED-TTL:P3D
REFRESH-INTERVAL:P3D
CALSCALE:GREGORIAN
BEGIN:VEVENT
DTSTART:20170711T163000Z
DTEND:20170711T180000Z
X-MICROSOFT-CDO-ALLDAYEVENT:FALSE
SUMMARY:Offices Closed for lunch
DESCRIPTION:The Chamber offices will be closed today from 12:30 - 2:00 pm for lunch and meetings. We will re-open at 2:00 pm. Feel free to leave us a message if you call in or email us at chamber@ashlandoh.com and we will get back with you as soon as we return. Thanks!
X-ALT-DESC;FMTTYPE=text/html:The Chamber offices will be closed today from 12:30 - 2:00 pm for lunch and meetings. We will re-open at 2:00 pm. Feel free to leave us a message if you call in or email us at chamber@ashlandoh.com and we will get back with you as soon as we return. Thanks!
LOCATION:Chamber Office
UID:e.1651.5343
SEQUENCE:3
DTSTAMP:20260419T223133Z
URL:https://members.ashlandoh.com/events/details/offices-closed-for-lunch-5343
END:VEVENT

END:VCALENDAR
