BEGIN:VCALENDAR
VERSION:2.0
PRODID:-//ChamberMaster//Event Calendar 2.0//EN
METHOD:PUBLISH
X-PUBLISHED-TTL:P3D
REFRESH-INTERVAL:P3D
CALSCALE:GREGORIAN
BEGIN:VEVENT
DTSTART:20170102T123000Z
DTEND:20170102T220000Z
X-MICROSOFT-CDO-ALLDAYEVENT:FALSE
SUMMARY:OFFICES CLOSED - NEW YEARS
DESCRIPTION:Monday\, January 2\, 2017\n\nThe Chamber offices will be closed today in observance of New Year's Day. We will re-open on Tuesday\, January 3\, 2017
X-ALT-DESC;FMTTYPE=text/html:<strong>Monday\, January 2\, 2017</strong><br />\nThe Chamber offices will be closed today in observance of New Year&#39\;s Day. We will re-open on Tuesday\, January 3\, 2017
LOCATION:
UID:e.1651.4211
SEQUENCE:3
DTSTAMP:20260420T072908Z
URL:https://members.ashlandoh.com/events/details/offices-closed-new-years-4211
END:VEVENT

END:VCALENDAR
