BEGIN:VCALENDAR
VERSION:2.0
PRODID:-//ChamberMaster//Event Calendar 2.0//EN
METHOD:PUBLISH
X-PUBLISHED-TTL:P3D
REFRESH-INTERVAL:P3D
CALSCALE:GREGORIAN
BEGIN:VEVENT
DTSTART:20170714T124500Z
DTEND:20170714T200000Z
X-MICROSOFT-CDO-ALLDAYEVENT:FALSE
SUMMARY:Offices Closed - Staff Retreat 7-14-17
DESCRIPTION:The Chamber Offices will be closed today from 8:45 am - 4:00 pm for a Staff Retreat.\n\n\n\nPlease feel free to send us an email and we will respond upon our return. Thanks!
X-ALT-DESC;FMTTYPE=text/html:The Chamber Offices will be closed today from 8:45 am - 4:00 pm for a Staff Retreat.<br />\n<br />\nPlease feel free to send us an email and we will respond upon our return. Thanks!
LOCATION:
UID:e.1651.5355
SEQUENCE:3
DTSTAMP:20260419T205727Z
URL:https://members.ashlandoh.com/events/details/offices-closed-staff-retreat-7-14-17-5355
END:VEVENT

END:VCALENDAR
